BEGIN:VCALENDAR
VERSION:2.0
PRODID:-//The Preserve at Eisenhower - ECPv6.15.18//NONSGML v1.0//EN
CALSCALE:GREGORIAN
METHOD:PUBLISH
X-WR-CALNAME:The Preserve at Eisenhower
X-ORIGINAL-URL:https://www.thepreserveateisenhower.com
X-WR-CALDESC:Events for The Preserve at Eisenhower
REFRESH-INTERVAL;VALUE=DURATION:PT1H
X-Robots-Tag:noindex
X-PUBLISHED-TTL:PT1H
BEGIN:VTIMEZONE
TZID:UTC
BEGIN:STANDARD
TZOFFSETFROM:+0000
TZOFFSETTO:+0000
TZNAME:UTC
DTSTART:20250101T000000
END:STANDARD
END:VTIMEZONE
BEGIN:VEVENT
DTSTART;TZID=UTC:20260507T170000
DTEND;TZID=UTC:20260507T183000
DTSTAMP:20260421T102220
CREATED:20260223T215220Z
LAST-MODIFIED:20260223T215223Z
UID:10000031-1778173200-1778178600@www.thepreserveateisenhower.com
SUMMARY:Women's Clinic
DESCRIPTION:Join us on the range Thursday nights! These entail individualized instruction from two instructors\, as well as a chance to meet other ladies. \n\n\n\nSpecific dates are for certain topics areas specifically\, as noted in the event name\, to target specific areas. If there is no specified topic area\, the clinic is for more generalized instruction. Individualized questions are encouraged! \n\n\n\nAlso\, check out the women’s on course play days that are held at the end of each month with the last one on October 8th.
URL:https://www.thepreserveateisenhower.com/event/womens-clinic/
CATEGORIES:Womens Golf Events
ATTACH;FMTTYPE=image/png:https://www.thepreserveateisenhower.com/wp-content/uploads/sites/9695/2025/12/download-10.png
END:VEVENT
BEGIN:VEVENT
DTSTART;TZID=UTC:20260514T170000
DTEND;TZID=UTC:20260514T183000
DTSTAMP:20260421T102220
CREATED:20260223T215353Z
LAST-MODIFIED:20260223T215356Z
UID:10000032-1778778000-1778783400@www.thepreserveateisenhower.com
SUMMARY:Women's Clinics (Short Game)
DESCRIPTION:Join us on the range Thursday nights! These entail individualized instruction from two instructors\, as well as a chance to meet other ladies. \n\n\n\nSpecific dates are for certain topics areas specifically\, as noted in the event name\, to target specific areas. If there is no specified topic area\, the clinic is for more generalized instruction. Individualized questions are encouraged! \n\n\n\nAlso\, check out the women’s on course play days that are held at the end of each month with the last one on October 8th.
URL:https://www.thepreserveateisenhower.com/event/womens-clinics-short-game/
CATEGORIES:Womens Golf Events
ATTACH;FMTTYPE=image/png:https://www.thepreserveateisenhower.com/wp-content/uploads/sites/9695/2025/12/download-10.png
END:VEVENT
BEGIN:VEVENT
DTSTART;TZID=UTC:20260528T173000
DTEND;TZID=UTC:20260528T190000
DTSTAMP:20260421T102220
CREATED:20260223T220637Z
LAST-MODIFIED:20260223T220639Z
UID:10000044-1779989400-1779994800@www.thepreserveateisenhower.com
SUMMARY:Women's On Course Play Days
DESCRIPTION:Join us out on the course for specialized instruction out on the golf course! \n\n\n\nThese days will begin with a warm up on the range\, and then we will head out onto the golf course to see how our work on the range has prepared us. Being out on the course gives us the opportunity to teach ideas that are not possible on the range\, such as uneven lies and techniques to chip from different spots. The final event of the year on October 8th will include drinks for those over 21.
URL:https://www.thepreserveateisenhower.com/event/womens-on-course-play-days/
CATEGORIES:Womens Golf Events
ATTACH;FMTTYPE=image/jpeg:https://www.thepreserveateisenhower.com/wp-content/uploads/sites/9695/2026/02/Womens-On-Course-Play-Days.jpg
END:VEVENT
END:VCALENDAR