BEGIN:VCALENDAR
VERSION:2.0
PRODID:-//The Preserve at Eisenhower - ECPv6.15.18//NONSGML v1.0//EN
CALSCALE:GREGORIAN
METHOD:PUBLISH
X-ORIGINAL-URL:https://www.thepreserveateisenhower.com
X-WR-CALDESC:Events for The Preserve at Eisenhower
REFRESH-INTERVAL;VALUE=DURATION:PT1H
X-Robots-Tag:noindex
X-PUBLISHED-TTL:PT1H
BEGIN:VTIMEZONE
TZID:UTC
BEGIN:STANDARD
TZOFFSETFROM:+0000
TZOFFSETTO:+0000
TZNAME:UTC
DTSTART:20250101T000000
END:STANDARD
END:VTIMEZONE
BEGIN:VEVENT
DTSTART;TZID=UTC:20260723T173000
DTEND;TZID=UTC:20260723T190000
DTSTAMP:20260423T182227
CREATED:20260223T215746Z
LAST-MODIFIED:20260223T215748Z
UID:10000037-1784827800-1784833200@www.thepreserveateisenhower.com
SUMMARY:Women's Clinic (Putting Games)
DESCRIPTION:Join us on the range Thursday nights! These entail individualized instruction from two instructors\, as well as a chance to meet other ladies. \n\n\n\nSpecific dates are for certain topics areas specifically\, as noted in the event name\, to target specific areas. If there is no specified topic area\, the clinic is for more generalized instruction. Individualized questions are encouraged! \n\n\n\nAlso\, check out the women’s on course play days that are held at the end of each month with the last one on October 8th.
URL:https://www.thepreserveateisenhower.com/event/womens-clinic-putting-games/
CATEGORIES:Womens Golf Events
ATTACH;FMTTYPE=image/png:https://www.thepreserveateisenhower.com/wp-content/uploads/sites/9695/2025/12/download-10.png
END:VEVENT
END:VCALENDAR